BEGIN:VCALENDAR
VERSION:2.0
PRODID:-//wp-events-plugin.com//7.2.3.1//EN
TZID:America/Los_Angeles
X-WR-TIMEZONE:America/Los_Angeles
BEGIN:VEVENT
UID:0-369@templebetham.org
DTSTART;TZID=America/Los_Angeles:20260517T100000
DTEND;TZID=America/Los_Angeles:20260517T120000
DTSTAMP:20260423T032335Z
URL:https://www.templebetham.org/events/annual-meeting-4/
SUMMARY:Annual Meeting
DESCRIPTION:Join us for the Temple Beth Am Annual Meeting! We will celebrat
 e our community\, attend to congregational business\, and connect with one
  another over coffee. Remember that we need a quorum for the meeting\, so 
 please plan to attend.\n\nThis year the meeting will be hosted in person a
 t TBA\, and you can also join remotely with the zoom link sent via email.\
 n\nThere will be a free espresso cart in the lobby from 9:30-12:30pm for a
 ll who attend the meeting!
ATTACH;FMTTYPE=image/jpeg:https://www.templebetham.org/wp-content/uploads/
 2026/04/Annual-Meeting.png
END:VEVENT
BEGIN:VTIMEZONE
TZID:America/Los_Angeles
X-LIC-LOCATION:America/Los_Angeles
BEGIN:DAYLIGHT
DTSTART:20260308T030000
TZOFFSETFROM:-0800
TZOFFSETTO:-0700
TZNAME:PDT
END:DAYLIGHT
END:VTIMEZONE
END:VCALENDAR