BEGIN:VCALENDAR
VERSION:2.0
PRODID:-//wp-events-plugin.com//7.2.3.1//EN
TZID:America/Los_Angeles
X-WR-TIMEZONE:America/Los_Angeles
BEGIN:VEVENT
UID:0-49@templebetham.org
DTSTART;TZID=America/Los_Angeles:20220330T190000
DTEND;TZID=America/Los_Angeles:20220330T200000
DTSTAMP:20220321T221843Z
URL:https://www.templebetham.org/events/mindful-self-compassion-workshop-f
 or-parents-on-teens/
SUMMARY:Mindful Self Compassion Workshop for Parents on Teens
DESCRIPTION:
ATTACH;FMTTYPE=image/jpeg:https://www.templebetham.org/wp-content/uploads/
 2022/03/mindful.jpg
END:VEVENT
BEGIN:VTIMEZONE
TZID:America/Los_Angeles
X-LIC-LOCATION:America/Los_Angeles
BEGIN:DAYLIGHT
DTSTART:20220313T030000
TZOFFSETFROM:-0800
TZOFFSETTO:-0700
TZNAME:PDT
END:DAYLIGHT
END:VTIMEZONE
END:VCALENDAR