BEGIN:VCALENDAR
VERSION:2.0
PRODID:-//wp-events-plugin.com//7.2.3.1//EN
TZID:America/Los_Angeles
X-WR-TIMEZONE:America/Los_Angeles
BEGIN:VEVENT
UID:0-264@templebetham.org
DTSTART;TZID=America/Los_Angeles:20250529T084500
DTEND;TZID=America/Los_Angeles:20250529T093000
DTSTAMP:20250523T203334Z
URL:https://www.templebetham.org/events/parents-with-young-children-tzedek
 -justice/
SUMMARY:Parents with Young Children: Tzedek (Justice)
DESCRIPTION:Rabbis Laura Rumpf and Ronit Tsadok are excited to bring back T
 zedek Thursdays. This monthly drop-in series for Parents with Young Childr
 en will help you take 5 minutes to make a positive difference in a world t
 hat needs it-while meeting other parents and enjoying coffee and treats at
  SEED (Temple Beth Am’s ECC).\n\nWe’ll have a (truly) five minute acti
 on\n\nyou can take each week ready in the SEED lobby along with a mini-Jew
 ish\n\nteaching for those who want it. (ex: Calling representatives to de
 fend\n\nrights of people with disabilities or signing on to a letter suppo
 rting\n\ngender-affirming healthcare). Add a little community care and rep
 air to your day with a treat and hopefully some new connections.
ATTACH;FMTTYPE=image/jpeg:https://www.templebetham.org/wp-content/uploads/
 2025/05/Event-Wheel-12.png
END:VEVENT
BEGIN:VTIMEZONE
TZID:America/Los_Angeles
X-LIC-LOCATION:America/Los_Angeles
BEGIN:DAYLIGHT
DTSTART:20250309T030000
TZOFFSETFROM:-0800
TZOFFSETTO:-0700
TZNAME:PDT
END:DAYLIGHT
END:VTIMEZONE
END:VCALENDAR