BEGIN:VCALENDAR
VERSION:2.0
PRODID:-//wp-events-plugin.com//7.2.3.1//EN
TZID:America/Los_Angeles
X-WR-TIMEZONE:America/Los_Angeles
BEGIN:VEVENT
UID:0-372@templebetham.org
DTSTART;TZID=America/Los_Angeles:20260521T190000
DTEND;TZID=America/Los_Angeles:20260521T190000
DTSTAMP:20260424T035607Z
URL:https://www.templebetham.org/events/shavuot-covenant-renewal-service/
SUMMARY:Shavuot Covenant Renewal Service
DESCRIPTION:Join us for our Shavuot Festival Service to honor our 10th grad
 e Covenant Renewal students and 12th grade graduating seniors!\n\nCommunit
 y oneg will follow services.
ATTACH;FMTTYPE=image/jpeg:https://www.templebetham.org/wp-content/uploads/
 2026/04/Shavuot-event.png
END:VEVENT
BEGIN:VTIMEZONE
TZID:America/Los_Angeles
X-LIC-LOCATION:America/Los_Angeles
BEGIN:DAYLIGHT
DTSTART:20260308T030000
TZOFFSETFROM:-0800
TZOFFSETTO:-0700
TZNAME:PDT
END:DAYLIGHT
END:VTIMEZONE
END:VCALENDAR